BEGIN:VCALENDAR
VERSION:2.0
PRODID:icalendar-ruby
CALSCALE:GREGORIAN
X-WR-TIMEZONE:Europe/Helsinki
BEGIN:VTIMEZONE
TZID:Europe/Helsinki
BEGIN:DAYLIGHT
DTSTART:20260329T040000
TZOFFSETFROM:+0200
TZOFFSETTO:+0300
RRULE:FREQ=YEARLY;BYDAY=-1SU;BYMONTH=3
TZNAME:EEST
END:DAYLIGHT
BEGIN:STANDARD
DTSTART:20261025T030000
TZOFFSETFROM:+0300
TZOFFSETTO:+0200
RRULE:FREQ=YEARLY;BYDAY=-1SU;BYMONTH=10
TZNAME:EET
END:STANDARD
END:VTIMEZONE
BEGIN:VEVENT
DTSTAMP:20260423T182529
UID:jyss.myclub.fi-7030386
DTSTART;TZID=Europe/Helsinki:20240520T160000
DTEND;TZID=Europe/Helsinki:20240520T174500
DESCRIPTION:Peliklubi on seuran aikuispelaajille suunnattu vapaa pelivuoro.
 \nPeliklubi kokoontuu: Maanantaisin klo 16:15-17:45 Monitoimitalolla Keski
 viikkoisin klo 16:15-17:45 Monitoimitalolla Torstaisin klo 17:30-19:00 Hip
 poshallilla (seuran yhteinen pelivuoro) \nPeliklubin kesän maksu on 55€
 . Uudet jäsenet liitetään seuran jäseniksi loppukaudeksi samalla maksu
 lla.  Kesävuoroilla on jonkin verran vuoroperuutuksia johtuen kaupungin t
 ilojen huolloista\, suluista ja lomista. Pyrimme tiedottamaan näistä mah
 dollisimman pian kun ne selviävät.\nRyhmän yhteyshenkilönä toimii Ila
 ri Nurmela. ilari.nurmela@jyss.fi p. 040 734 5892\n\nhttps://jyss.myclub.f
 i/flow/events/7030386
LOCATION:Monitoimitalo\, Kuntoportti 3 \, 40700 JYVÄSKYLÄ\, Finland
SEQUENCE:0
SUMMARY:Jyväskylän Sulkapalloseura ry: Peliklubi - Kesä 2024
URL;VALUE=URI:https://jyss.myclub.fi/flow/events/7030386
END:VEVENT
END:VCALENDAR
